BEGIN:VCALENDAR
VERSION:2.0
PRODID:-//Belerf - ECPv6.15.20//NONSGML v1.0//EN
CALSCALE:GREGORIAN
METHOD:PUBLISH
X-ORIGINAL-URL:https://belerf.eu
X-WR-CALDESC:Veranstaltungen für Belerf
REFRESH-INTERVAL;VALUE=DURATION:PT1H
X-Robots-Tag:noindex
X-PUBLISHED-TTL:PT1H
BEGIN:VTIMEZONE
TZID:Europe/Berlin
BEGIN:DAYLIGHT
TZOFFSETFROM:+0100
TZOFFSETTO:+0200
TZNAME:CEST
DTSTART:20240331T010000
END:DAYLIGHT
BEGIN:STANDARD
TZOFFSETFROM:+0200
TZOFFSETTO:+0100
TZNAME:CET
DTSTART:20241027T010000
END:STANDARD
BEGIN:DAYLIGHT
TZOFFSETFROM:+0100
TZOFFSETTO:+0200
TZNAME:CEST
DTSTART:20250330T010000
END:DAYLIGHT
BEGIN:STANDARD
TZOFFSETFROM:+0200
TZOFFSETTO:+0100
TZNAME:CET
DTSTART:20251026T010000
END:STANDARD
BEGIN:DAYLIGHT
TZOFFSETFROM:+0100
TZOFFSETTO:+0200
TZNAME:CEST
DTSTART:20260329T010000
END:DAYLIGHT
BEGIN:STANDARD
TZOFFSETFROM:+0200
TZOFFSETTO:+0100
TZNAME:CET
DTSTART:20261025T010000
END:STANDARD
BEGIN:DAYLIGHT
TZOFFSETFROM:+0100
TZOFFSETTO:+0200
TZNAME:CEST
DTSTART:20270328T010000
END:DAYLIGHT
BEGIN:STANDARD
TZOFFSETFROM:+0200
TZOFFSETTO:+0100
TZNAME:CET
DTSTART:20271031T010000
END:STANDARD
END:VTIMEZONE
BEGIN:VEVENT
DTSTART;TZID=Europe/Berlin:20260331T200000
DTEND;TZID=Europe/Berlin:20260401T000000
DTSTAMP:20260420T074339
CREATED:20251119T154047Z
LAST-MODIFIED:20251124T181937Z
UID:1373-1774987200-1775001600@belerf.eu
SUMMARY:Boule Saison
DESCRIPTION:Beginn der Boule-Saison 2026\nBoule für Alle\, immer dienstags ab 18:00 Uhr am Bouleplatz neben dem Belmontplatz.
URL:https://belerf.eu/event/boule-saison/
LOCATION:Erfweiler Belmontplatz\, Belmontplatz\, Erfweiler\, 66996
CATEGORIES:Belerf
END:VEVENT
BEGIN:VEVENT
DTSTART;TZID=Europe/Berlin:20260220T200000
DTEND;TZID=Europe/Berlin:20260220T230000
DTSTAMP:20260420T074339
CREATED:20251119T153700Z
LAST-MODIFIED:20251124T181944Z
UID:1370-1771617600-1771628400@belerf.eu
SUMMARY:Mitgliederversammlung
DESCRIPTION:Mitgliederversammlung des Belerf e.V.
URL:https://belerf.eu/event/mitgliederversammlung/
LOCATION:Erfweiler\, Erfweiler\, 66996
CATEGORIES:Belerf
END:VEVENT
BEGIN:VEVENT
DTSTART;TZID=Europe/Berlin:20260124T190000
DTEND;TZID=Europe/Berlin:20260124T230000
DTSTAMP:20260420T074339
CREATED:20251119T153416Z
LAST-MODIFIED:20251124T181950Z
UID:1366-1769281200-1769295600@belerf.eu
SUMMARY:Deutsch-Französischer Tag
DESCRIPTION:Lesung mit Jean Philippe Devise\nMusik mit Sandra Bronder\nFilme aus dem Jugendfilmprojekt\n\nEine gemeinsame Veranstaltung mit dem Büchereiteam Erfweiler.
URL:https://belerf.eu/event/deutsch-franzoesischer-tag/
LOCATION:Erfweiler DGH\, Thalstraße\, Erfweiler\, 66996
CATEGORIES:Belerf
END:VEVENT
BEGIN:VEVENT
DTSTART;TZID=Europe/Berlin:20251221T180000
DTEND;TZID=Europe/Berlin:20251221T220000
DTSTAMP:20260420T074339
CREATED:20251124T182804Z
LAST-MODIFIED:20251124T182804Z
UID:1546-1766340000-1766354400@belerf.eu
SUMMARY:Weihnachtssingen
DESCRIPTION:Weihnachtssingen in der Kirche Erfweiler\, veranstaltet von der Jägerkapelle mit\nanschließendem Glühwein auf dem Belmontplatz an der Pfälzerwald-Hütte. \n  \n 
URL:https://belerf.eu/event/weihnachtssingen/
LOCATION:Erfweiler Belmontplatz\, Belmontplatz\, Erfweiler\, 66996
CATEGORIES:Erfweiler
END:VEVENT
BEGIN:VEVENT
DTSTART;VALUE=DATE:20251206
DTEND;VALUE=DATE:20251209
DTSTAMP:20260420T074339
CREATED:20251119T151112Z
LAST-MODIFIED:20251124T182214Z
UID:1350-1765018800-1765191599@belerf.eu
SUMMARY:Waldweihnacht
DESCRIPTION:Waldweihnacht mit den Vereinen aus Erfweiler an der Köhlerhütte \n \n 
URL:https://belerf.eu/event/waldweihnacht/
LOCATION:Erfweiler Kohlemeiler\, Eibachstraße\, Erfweiler\, 66996
CATEGORIES:Erfweiler
END:VEVENT
BEGIN:VEVENT
DTSTART;TZID=Europe/Berlin:20251202T200000
DTEND;TZID=Europe/Berlin:20251203T000000
DTSTAMP:20260420T074339
CREATED:20251119T191357Z
LAST-MODIFIED:20251124T182004Z
UID:1497-1764705600-1764720000@belerf.eu
SUMMARY:Glühweinstand
DESCRIPTION:Glühweinstand an der Hütte vom Pfälzer Waldverein Erfweiler.
URL:https://belerf.eu/event/gluehweinstand/
LOCATION:Pfälzerwaldverein Erfweiler\, Belmontplatz\, Erfweiler\, 66996
CATEGORIES:Erfweiler
END:VEVENT
BEGIN:VEVENT
DTSTART;TZID=Europe/Berlin:20251122T203000
DTEND;TZID=Europe/Berlin:20251123T003000
DTSTAMP:20260420T074339
CREATED:20251118T171538Z
LAST-MODIFIED:20251124T182012Z
UID:1310-1763843400-1763857800@belerf.eu
SUMMARY:Jahresabschlussfeier
DESCRIPTION:Jahres-Abschlussfeier 2025 des Belerf e.V.
URL:https://belerf.eu/event/jahresabschlussfeier/
LOCATION:Erfweiler Sportheim\, Am Schlossberg\, Erfweiler\, 66996\, Germany
CATEGORIES:Belerf
END:VEVENT
END:VCALENDAR